BEGIN:VCALENDAR
VERSION:2.0
PRODID:-//Tukios.com/
BEGIN:VEVENT
UID:b89f5f37-4d54-4b97-aec1-f02e43cba1a0@www.ernstfuneralhome.com
DTSTAMP:20260425T173353Z
DTSTART:20260430T220000Z
DTEND:20260501T000000Z
SUMMARY:Visitation
DESCRIPTION:
URL:https://www.ernstfuneralhome.com/obituaries/phyllis-thompson
LOCATION:Ernst Funeral Home 80 NE Dartmoor Drive  Waukee IA 50263
GEO:41.6160475;-93.8668824
END:VEVENT
END:VCALENDAR